BEGIN:VCALENDAR
VERSION:2.0
PRODID:-//Boston Main Streets - ECPv4.5.12.2//NONSGML v1.0//EN
CALSCALE:GREGORIAN
METHOD:PUBLISH
X-WR-CALNAME:Boston Main Streets
X-ORIGINAL-URL:https://bostonmainstreets.org
X-WR-CALDESC:Events for Boston Main Streets
BEGIN:VEVENT
DTSTART;TZID=America/New_York:20241026T120000
DTEND;TZID=America/New_York:20241026T150000
DTSTAMP:20260425T002805
CREATED:20241002T193651Z
LAST-MODIFIED:20241002T193651Z
UID:13626-1729944000-1729954800@bostonmainstreets.org
SUMMARY:20th Annual JP Canine Costume Parade
DESCRIPTION:
URL:https://bostonmainstreets.org/calendar/20th-annual-jp-canine-costume-parade/
CATEGORIES:JP Centre/South Main Streets
END:VEVENT
END:VCALENDAR