BEGIN:VCALENDAR
VERSION:2.0
PRODID:-//Boston Main Streets - ECPv4.5.12.2//NONSGML v1.0//EN
CALSCALE:GREGORIAN
METHOD:PUBLISH
X-WR-CALNAME:Boston Main Streets
X-ORIGINAL-URL:https://bostonmainstreets.org
X-WR-CALDESC:Events for Boston Main Streets
BEGIN:VEVENT
DTSTART;TZID=America/New_York:20230917T120000
DTEND;TZID=America/New_York:20230917T170000
DTSTAMP:20260425T142114
CREATED:20230803T183419Z
LAST-MODIFIED:20230803T183419Z
UID:13225-1694952000-1694970000@bostonmainstreets.org
SUMMARY:A Day in Fashion
DESCRIPTION:
URL:https://bostonmainstreets.org/calendar/a-day-in-fashion/
CATEGORIES:Roslindale Village Main Street
END:VEVENT
END:VCALENDAR