BEGIN:VCALENDAR
VERSION:2.0
PRODID:-//Boston Main Streets - ECPv4.5.12.2//NONSGML v1.0//EN
CALSCALE:GREGORIAN
METHOD:PUBLISH
X-WR-CALNAME:Boston Main Streets
X-ORIGINAL-URL:https://bostonmainstreets.org
X-WR-CALDESC:Events for Boston Main Streets
BEGIN:VEVENT
DTSTART;TZID=America/New_York:20251029T110000
DTEND;TZID=America/New_York:20251029T120000
DTSTAMP:20260422T054712
CREATED:20250815T155315Z
LAST-MODIFIED:20250815T161948Z
UID:14765-1761735600-1761739200@bostonmainstreets.org
SUMMARY:Banking on Business: GNEMSDC Financial Empowerment Series - Industry Benchmarking\, The Tool You Need to Thrive
DESCRIPTION:
URL:https://bostonmainstreets.org/calendar/banking-business-gnemsdc-financial-empowerment-series-capital-ready-3/
END:VEVENT
END:VCALENDAR