BEGIN:VCALENDAR
VERSION:2.0
PRODID:-//Boston Main Streets - ECPv4.5.12.2//NONSGML v1.0//EN
CALSCALE:GREGORIAN
METHOD:PUBLISH
X-WR-CALNAME:Boston Main Streets
X-ORIGINAL-URL:https://bostonmainstreets.org
X-WR-CALDESC:Events for Boston Main Streets
BEGIN:VEVENT
DTSTART;TZID=America/New_York:20260519T100000
DTEND;TZID=America/New_York:20260519T113000
DTSTAMP:20260422T010032
CREATED:20260421T210312Z
LAST-MODIFIED:20260421T210409Z
UID:15665-1779184800-1779190200@bostonmainstreets.org
SUMMARY:Celebrate Small Business Week with Key Census Data Resources for Small Biz
DESCRIPTION:
URL:https://bostonmainstreets.org/calendar/celebrate-small-business-week-key-census-data-resources-small-biz/
END:VEVENT
END:VCALENDAR