BEGIN:VCALENDAR
VERSION:2.0
PRODID:-//Boston Main Streets - ECPv4.5.12.2//NONSGML v1.0//EN
CALSCALE:GREGORIAN
METHOD:PUBLISH
X-WR-CALNAME:Boston Main Streets
X-ORIGINAL-URL:https://bostonmainstreets.org
X-WR-CALDESC:Events for Boston Main Streets
BEGIN:VEVENT
DTSTART;TZID=America/New_York:20250815T173000
DTEND;TZID=America/New_York:20250815T193000
DTSTAMP:20260424T093009
CREATED:20250815T162849Z
LAST-MODIFIED:20250815T162849Z
UID:14770-1755279000-1755286200@bostonmainstreets.org
SUMMARY:Cofounder Matching
DESCRIPTION:
URL:https://bostonmainstreets.org/calendar/cofounder-matching/
END:VEVENT
END:VCALENDAR