BEGIN:VCALENDAR
VERSION:2.0
PRODID:-//Boston Main Streets - ECPv4.5.12.2//NONSGML v1.0//EN
CALSCALE:GREGORIAN
METHOD:PUBLISH
X-WR-CALNAME:Boston Main Streets
X-ORIGINAL-URL:https://bostonmainstreets.org
X-WR-CALDESC:Events for Boston Main Streets
BEGIN:VEVENT
DTSTART;TZID=America/New_York:20231111T120000
DTEND;TZID=America/New_York:20231111T170000
DTSTAMP:20260425T125256
CREATED:20230622T153907Z
LAST-MODIFIED:20230622T153907Z
UID:13293-1699704000-1699722000@bostonmainstreets.org
SUMMARY:JP Centre South Main Farmer's Market
DESCRIPTION:
URL:https://bostonmainstreets.org/calendar/jp-centre-south-main-farmers-market/2023-11-11/
CATEGORIES:JP Centre/South Main Streets
END:VEVENT
END:VCALENDAR