BEGIN:VCALENDAR
VERSION:2.0
PRODID:-//Boston Main Streets - ECPv4.5.12.2//NONSGML v1.0//EN
CALSCALE:GREGORIAN
METHOD:PUBLISH
X-WR-CALNAME:Boston Main Streets
X-ORIGINAL-URL:https://bostonmainstreets.org
X-WR-CALDESC:Events for Boston Main Streets
BEGIN:VEVENT
DTSTART;TZID=America/New_York:20250405T100000
DTEND;TZID=America/New_York:20250405T130000
DTSTAMP:20260421T073815
CREATED:20250325T153133Z
LAST-MODIFIED:20250325T153134Z
UID:14551-1743847200-1743858000@bostonmainstreets.org
SUMMARY:Love Your Block 2025: Roslindale
DESCRIPTION:
URL:https://bostonmainstreets.org/calendar/love-block-2025-roslindale/
CATEGORIES:Roslindale Village Main Street
END:VEVENT
END:VCALENDAR