BEGIN:VCALENDAR
VERSION:2.0
PRODID:-//Boston Main Streets - ECPv4.5.12.2//NONSGML v1.0//EN
CALSCALE:GREGORIAN
METHOD:PUBLISH
X-WR-CALNAME:Boston Main Streets
X-ORIGINAL-URL:https://bostonmainstreets.org
X-WR-CALDESC:Events for Boston Main Streets
BEGIN:VEVENT
DTSTART;TZID=America/New_York:20251003T080000
DTEND;TZID=America/New_York:20251003T170000
DTSTAMP:20260424T205210
CREATED:20250823T205030Z
LAST-MODIFIED:20250823T205030Z
UID:14790-1759478400-1759510800@bostonmainstreets.org
SUMMARY:Mass Black Expo 2025
DESCRIPTION:
URL:https://bostonmainstreets.org/calendar/mass-black-expo-2025/
END:VEVENT
END:VCALENDAR