BEGIN:VCALENDAR
VERSION:2.0
PRODID:-//Boston Main Streets - ECPv4.5.12.2//NONSGML v1.0//EN
CALSCALE:GREGORIAN
METHOD:PUBLISH
X-WR-CALNAME:Boston Main Streets
X-ORIGINAL-URL:https://bostonmainstreets.org
X-WR-CALDESC:Events for Boston Main Streets
BEGIN:VEVENT
DTSTART;TZID=America/New_York:20250913T100000
DTEND;TZID=America/New_York:20250913T173000
DTSTAMP:20260422T065720
CREATED:20250815T162237Z
LAST-MODIFIED:20250815T162913Z
UID:14766-1757757600-1757784600@bostonmainstreets.org
SUMMARY:Mid-Autumn Lantern Festival
DESCRIPTION:
URL:https://bostonmainstreets.org/calendar/mid-autumn-lntern-festival/
CATEGORIES:Chinatown Main Street
END:VEVENT
END:VCALENDAR