BEGIN:VCALENDAR
VERSION:2.0
PRODID:-//Boston Main Streets - ECPv4.5.12.2//NONSGML v1.0//EN
CALSCALE:GREGORIAN
METHOD:PUBLISH
X-WR-CALNAME:Boston Main Streets
X-ORIGINAL-URL:https://bostonmainstreets.org
X-WR-CALDESC:Events for Boston Main Streets
BEGIN:VEVENT
DTSTART;TZID=America/New_York:20230909T120000
DTEND;TZID=America/New_York:20230909T190000
DTSTAMP:20260425T113841
CREATED:20230803T190640Z
LAST-MODIFIED:20230803T190640Z
UID:13228-1694260800-1694286000@bostonmainstreets.org
SUMMARY:Music Festival
DESCRIPTION:
URL:https://bostonmainstreets.org/calendar/music-festival/
CATEGORIES:JP Centre/South Main Streets
END:VEVENT
END:VCALENDAR