BEGIN:VCALENDAR
VERSION:2.0
PRODID:-//Boston Main Streets - ECPv4.5.12.2//NONSGML v1.0//EN
CALSCALE:GREGORIAN
METHOD:PUBLISH
X-WR-CALNAME:Boston Main Streets
X-ORIGINAL-URL:https://bostonmainstreets.org
X-WR-CALDESC:Events for Boston Main Streets
BEGIN:VEVENT
DTSTART;TZID=America/New_York:20260521T180000
DTEND;TZID=America/New_York:20260521T200000
DTSTAMP:20260425T113842
CREATED:20260423T143608Z
LAST-MODIFIED:20260423T143608Z
UID:15668-1779386400-1779393600@bostonmainstreets.org
SUMMARY:Nubian Square Business Crawl
DESCRIPTION:
URL:https://bostonmainstreets.org/calendar/nubian-square-business-crawl/
CATEGORIES:Roxbury Main Streets
END:VEVENT
END:VCALENDAR