BEGIN:VCALENDAR
VERSION:2.0
PRODID:-//Boston Main Streets - ECPv4.5.12.2//NONSGML v1.0//EN
CALSCALE:GREGORIAN
METHOD:PUBLISH
X-WR-CALNAME:Boston Main Streets
X-ORIGINAL-URL:https://bostonmainstreets.org
X-WR-CALDESC:Events for Boston Main Streets
BEGIN:VEVENT
DTSTART;TZID=America/New_York:20250306T100000
DTEND;TZID=America/New_York:20250306T120000
DTSTAMP:20260421T113400
CREATED:20250303T201627Z
LAST-MODIFIED:20250303T201627Z
UID:14540-1741255200-1741262400@bostonmainstreets.org
SUMMARY:Outdoor Dining Workshop
DESCRIPTION:
URL:https://bostonmainstreets.org/calendar/outdoor-dining-workshop/
END:VEVENT
END:VCALENDAR