BEGIN:VCALENDAR
VERSION:2.0
PRODID:-//Boston Main Streets - ECPv4.5.12.2//NONSGML v1.0//EN
CALSCALE:GREGORIAN
METHOD:PUBLISH
X-WR-CALNAME:Boston Main Streets
X-ORIGINAL-URL:https://bostonmainstreets.org
X-WR-CALDESC:Events for Boston Main Streets
BEGIN:VEVENT
DTSTART;TZID=America/New_York:20250920T120000
DTEND;TZID=America/New_York:20250920T170000
DTSTAMP:20260424T154445
CREATED:20250815T165024Z
LAST-MODIFIED:20250815T165024Z
UID:14781-1758369600-1758387600@bostonmainstreets.org
SUMMARY:Savor the Square
DESCRIPTION:
URL:https://bostonmainstreets.org/calendar/savor-the-square-2/
CATEGORIES:Roxbury Main Streets
END:VEVENT
END:VCALENDAR