BEGIN:VCALENDAR
VERSION:2.0
PRODID:-//Boston Main Streets - ECPv4.5.12.2//NONSGML v1.0//EN
CALSCALE:GREGORIAN
METHOD:PUBLISH
X-WR-CALNAME:Boston Main Streets
X-ORIGINAL-URL:https://bostonmainstreets.org
X-WR-CALDESC:Events for Boston Main Streets
BEGIN:VEVENT
DTSTART;TZID=America/New_York:20250326T100000
DTEND;TZID=America/New_York:20250326T113000
DTSTAMP:20260421T101350
CREATED:20250325T151357Z
LAST-MODIFIED:20250325T151511Z
UID:14547-1742983200-1742988600@bostonmainstreets.org
SUMMARY:Small Business Legal Check-Up!
DESCRIPTION:
URL:https://bostonmainstreets.org/calendar/small-business-legal-check/
CATEGORIES:Roslindale Village Main Street
END:VEVENT
END:VCALENDAR