BEGIN:VCALENDAR
VERSION:2.0
PRODID:-//Boston Main Streets - ECPv4.5.12.2//NONSGML v1.0//EN
CALSCALE:GREGORIAN
METHOD:PUBLISH
X-WR-CALNAME:Boston Main Streets
X-ORIGINAL-URL:https://bostonmainstreets.org
X-WR-CALDESC:Events for Boston Main Streets
BEGIN:VEVENT
DTSTART;TZID=America/New_York:20260514T120000
DTEND;TZID=America/New_York:20260514T130000
DTSTAMP:20260425T112821
CREATED:20260423T144543Z
LAST-MODIFIED:20260423T144543Z
UID:15673-1778760000-1778763600@bostonmainstreets.org
SUMMARY:Small Business Strong Learning Series: How to Turn Daily Data Into Real Profit
DESCRIPTION:
URL:https://bostonmainstreets.org/calendar/small-business-strong-learning-series-turn-daily-data-real-profit/
END:VEVENT
END:VCALENDAR